BEGIN:VCALENDAR
VERSION:2.0
PRODID:-//Pantano Outdoor Supply - ECPv6.15.18//NONSGML v1.0//EN
CALSCALE:GREGORIAN
METHOD:PUBLISH
X-ORIGINAL-URL:https://pantanooutdoorsupply.com
X-WR-CALDESC:Events for Pantano Outdoor Supply
REFRESH-INTERVAL;VALUE=DURATION:PT1H
X-Robots-Tag:noindex
X-PUBLISHED-TTL:PT1H
BEGIN:VTIMEZONE
TZID:America/New_York
BEGIN:DAYLIGHT
TZOFFSETFROM:-0500
TZOFFSETTO:-0400
TZNAME:EDT
DTSTART:20230312T070000
END:DAYLIGHT
BEGIN:STANDARD
TZOFFSETFROM:-0400
TZOFFSETTO:-0500
TZNAME:EST
DTSTART:20231105T060000
END:STANDARD
BEGIN:DAYLIGHT
TZOFFSETFROM:-0500
TZOFFSETTO:-0400
TZNAME:EDT
DTSTART:20240310T070000
END:DAYLIGHT
BEGIN:STANDARD
TZOFFSETFROM:-0400
TZOFFSETTO:-0500
TZNAME:EST
DTSTART:20241103T060000
END:STANDARD
BEGIN:DAYLIGHT
TZOFFSETFROM:-0500
TZOFFSETTO:-0400
TZNAME:EDT
DTSTART:20250309T070000
END:DAYLIGHT
BEGIN:STANDARD
TZOFFSETFROM:-0400
TZOFFSETTO:-0500
TZNAME:EST
DTSTART:20251102T060000
END:STANDARD
END:VTIMEZONE
BEGIN:VEVENT
DTSTART;TZID=America/New_York:20241016T190000
DTEND;TZID=America/New_York:20241016T203000
DTSTAMP:20260424T061027
CREATED:20241004T131505Z
LAST-MODIFIED:20241004T131505Z
UID:10000018-1729105200-1729110600@pantanooutdoorsupply.com
SUMMARY:Autumn Centerpiece Workshop by Amber & Earth
DESCRIPTION:[vc_row type=”in_container” full_screen_row_position=”middle” column_margin=”default” equal_height=”yes” content_placement=”top” column_direction=”default” column_direction_tablet=”default” column_direction_phone=”default” scene_position=”center” top_padding=”3%” constrain_group_1=”yes” bottom_padding=”3%” constrain_group_2=”yes” text_color=”dark” text_align=”left” row_border_radius=”none” row_border_radius_applies=”bg” overflow=”visible” overlay_strength=”0.3″ gradient_direction=”left_to_right” shape_divider_position=”bottom” bg_image_animation=”none” gradient_type=”default” shape_type=””][vc_column column_padding=”no-extra-padding” column_padding_tablet=”inherit” column_padding_phone=”inherit” column_padding_position=”all” column_element_direction_desktop=”default” column_element_spacing=”default” desktop_text_alignment=”default” tablet_text_alignment=”default” phone_text_alignment=”default” sticky_content=”true” sticky_content_functionality=”js” background_color_opacity=”1″ background_hover_color_opacity=”1″ column_backdrop_filter=”none” column_shadow=”none” column_border_radius=”none” column_link_target=”_self” column_position=”default” gradient_direction=”left_to_right” overlay_strength=”0.3″ width=”1/2″ tablet_width_inherit=”default” animation_type=”default” bg_image_animation=”none” border_type=”simple” column_border_width=”none” column_border_style=”solid” column_padding_type=”default” gradient_type=”default”][image_with_animation image_url=”8043″ image_size=”full” animation_type=”entrance” animation=”Fade In From Left” animation_easing=”default” animation_movement_type=”transform_y” hover_animation=”none” alignment=”center” border_radius=”10px” box_shadow=”none” image_loading=”default” max_width=”100%” max_width_mobile=”default”][/vc_column][vc_column column_padding=”no-extra-padding” column_padding_tablet=”inherit” column_padding_phone=”inherit” column_padding_position=”all” column_element_direction_desktop=”default” column_element_spacing=”default” desktop_text_alignment=”default” tablet_text_alignment=”default” phone_text_alignment=”default” background_color_opacity=”1″ background_hover_color_opacity=”1″ column_backdrop_filter=”none” column_shadow=”none” column_border_radius=”none” column_link_target=”_self” column_position=”default” gradient_direction=”left_to_right” overlay_strength=”0.3″ width=”1/2″ tablet_width_inherit=”default” animation_type=”default” bg_image_animation=”none” border_type=”simple” column_border_width=”none” column_border_style=”solid”][vc_column_text el_class=”pantano-event-type-tag”]\nAutumn Centerpiece Workshop by Amber & Earth\n \nADULT'S EVENT    Wednesday\, October 16th @ 7:00 pm – 8:30 pm \n[/vc_column_text][vc_column_text el_class=”pantano-event-description”]Pantano Home & Garden invites you to join us in this hands-on workshop where you’ll be creating an Autumn Centerpiece\, led by the talented Amber & Earth. The class includes all materials\, light snacks\, instruction\, and BYOB. Bring your friends and join us for what’s sure to be a fun evening! \nMaterials Included:  \n\nContainer\nFlorals & greenery\nFloral shears\n\nThese tickets will be non-refundable. Please print or have tickets available by phone. Tickets can also be purchased in-store and online up until event day by 12:00 pm.[/vc_column_text][nectar_btn size=”jumbo” open_new_tab=”true” button_style=”regular” button_color_2=”Accent-Color” solid_text_color_override=”#f7f5e9″ icon_family=”none” text=”Register Now” url=”https://www.amberandearth.com/product-page/fall-floral-centerpiece-workshop-at-pantano-home-garden”][/vc_column][/vc_row]
URL:https://pantanooutdoorsupply.com/event/autumn-centerpiece-workshop-by-amber-earth/
LOCATION:Pantano Home & Garden\, 161 NJ-34\, Holmdel\, NJ\, 07733\, United States
ATTACH;FMTTYPE=image/jpeg:https://pantanooutdoorsupply.com/wp-content/uploads/2024/09/AmberEarthAC2.jpg
END:VEVENT
END:VCALENDAR