BEGIN:VCALENDAR
VERSION:2.0
PRODID:-//Pantano Outdoor Supply - ECPv6.15.18//NONSGML v1.0//EN
CALSCALE:GREGORIAN
METHOD:PUBLISH
X-ORIGINAL-URL:https://pantanooutdoorsupply.com
X-WR-CALDESC:Events for Pantano Outdoor Supply
REFRESH-INTERVAL;VALUE=DURATION:PT1H
X-Robots-Tag:noindex
X-PUBLISHED-TTL:PT1H
BEGIN:VTIMEZONE
TZID:America/New_York
BEGIN:DAYLIGHT
TZOFFSETFROM:-0500
TZOFFSETTO:-0400
TZNAME:EDT
DTSTART:20240310T070000
END:DAYLIGHT
BEGIN:STANDARD
TZOFFSETFROM:-0400
TZOFFSETTO:-0500
TZNAME:EST
DTSTART:20241103T060000
END:STANDARD
BEGIN:DAYLIGHT
TZOFFSETFROM:-0500
TZOFFSETTO:-0400
TZNAME:EDT
DTSTART:20250309T070000
END:DAYLIGHT
BEGIN:STANDARD
TZOFFSETFROM:-0400
TZOFFSETTO:-0500
TZNAME:EST
DTSTART:20251102T060000
END:STANDARD
BEGIN:DAYLIGHT
TZOFFSETFROM:-0500
TZOFFSETTO:-0400
TZNAME:EDT
DTSTART:20260308T070000
END:DAYLIGHT
BEGIN:STANDARD
TZOFFSETFROM:-0400
TZOFFSETTO:-0500
TZNAME:EST
DTSTART:20261101T060000
END:STANDARD
END:VTIMEZONE
BEGIN:VEVENT
DTSTART;TZID=America/New_York:20250924T183000
DTEND;TZID=America/New_York:20250924T200000
DTSTAMP:20260420T062723
CREATED:20250814T142106Z
LAST-MODIFIED:20250924T131511Z
UID:10000135-1758738600-1758744000@pantanooutdoorsupply.com
SUMMARY:Pints & Plants: Plant Bingo & Trivia
DESCRIPTION:[vc_row type=”in_container” full_screen_row_position=”middle” column_margin=”default” equal_height=”yes” content_placement=”top” column_direction=”default” column_direction_tablet=”default” column_direction_phone=”default” scene_position=”center” top_padding=”3%” constrain_group_1=”yes” bottom_padding=”3%” constrain_group_2=”yes” text_color=”dark” text_align=”left” row_border_radius=”none” row_border_radius_applies=”bg” overflow=”visible” overlay_strength=”0.3″ gradient_direction=”left_to_right” shape_divider_position=”bottom” bg_image_animation=”none” gradient_type=”default” shape_type=””][vc_column column_padding=”no-extra-padding” column_padding_tablet=”inherit” column_padding_phone=”inherit” column_padding_position=”all” column_element_direction_desktop=”default” column_element_spacing=”default” desktop_text_alignment=”default” tablet_text_alignment=”default” phone_text_alignment=”default” sticky_content=”true” sticky_content_functionality=”js” background_color_opacity=”1″ background_hover_color_opacity=”1″ column_backdrop_filter=”none” column_shadow=”none” column_border_radius=”none” column_link_target=”_self” column_position=”default” gradient_direction=”left_to_right” overlay_strength=”0.3″ width=”1/2″ tablet_width_inherit=”default” animation_type=”default” bg_image_animation=”none” border_type=”simple” column_border_width=”none” column_border_style=”solid” column_padding_type=”default” gradient_type=”default”][image_with_animation image_url=”10206″ image_size=”full” animation_type=”entrance” animation=”Fade In From Left” animation_easing=”default” animation_movement_type=”transform_y” hover_animation=”none” alignment=”center” border_radius=”10px” box_shadow=”none” image_loading=”default” max_width=”100%” max_width_mobile=”default”][/vc_column][vc_column column_padding=”no-extra-padding” column_padding_tablet=”inherit” column_padding_phone=”inherit” column_padding_position=”all” column_element_direction_desktop=”default” column_element_spacing=”default” desktop_text_alignment=”default” tablet_text_alignment=”default” phone_text_alignment=”default” background_color_opacity=”1″ background_hover_color_opacity=”1″ column_backdrop_filter=”none” column_shadow=”none” column_border_radius=”none” column_link_target=”_self” column_position=”default” gradient_direction=”left_to_right” overlay_strength=”0.3″ width=”1/2″ tablet_width_inherit=”default” animation_type=”default” bg_image_animation=”none” border_type=”simple” column_border_width=”none” column_border_style=”solid”][vc_column_text el_class=”pantano-event-type-tag”]\nPints & Plants: Plant Bingo & Trivia \nADULT'S ONLY    Wednesday\, September 24th @ 6:30 pm – 8:00 pm \n[/vc_column_text][vc_column_text el_class=”pantano-event-description”]Join us for a fun and interactive evening at Source Farmhouse Brewery\, where craft beer meets creativity.  We’re teaming up with Source to bring you another night of Pints & Plants! For this event\, we will be hosting a bingo and plant trivia night that’s perfect for couples\, friends\, or anyone looking for a unique night out. \nDuring the night\, we’ll play multiple rounds of bingo and one that truly tests your plant knowledge. Everyone will leave with a plant(small-medium variation depending on if you won). The winner’s prizes will consist of eye catching medium sized houseplants and/or seasonal outdoor plants from Pantano Home & Garden and one special Grand Prize. \nDate: Wednesday\, September 24th\nTime: 6:30pm – 8:00pm\nLocation: Source Farmhouse Brewery\n300 NJ-34\, Colts Neck\, NJ 07722\nCost: $38 per person \nWhat’s included: \n\nBingo cards to participate in each round\nPlant themed trivia supplies to reveal a Grand Prize Winner\nOne full pour beer or hard seltzer from Source Brewing’s selection\nA relaxed\, welcoming atmosphere perfect for adults 21+ (no children)\n\nGrab your partner\, your best friend\, or come solo and meet like-minded plant and beer lovers! Spaces are limited\, so reserve your spot now and join us for a night of fun\, great drinks\, and good company.  \nThese tickets will be non-refundable. Please print or have tickets available by phone. Tickets can also be purchased in-store and online up until the day before event by 12:00 pm.[/vc_column_text][vc_column_text]\n	\n\n		\n		\n		\n\n		\n\n		\n\n\n\n	Tickets\n\n		\n	\n	\n		The numbers below include tickets for this event already in your cart. Clicking "Get Tickets" will allow you to edit any existing attendee information as well as change ticket quantities.	\n\n\n		\n		\n		\n	\n		Tickets are no longer available	\n\n\n		\n	\n	\n\n	\n	\n\n	\n	\n\n\n\n			\n\n	\n\n\n[/vc_column_text][/vc_column][/vc_row]
URL:https://pantanooutdoorsupply.com/event/pints-plants-plant-bingo-trivia/
LOCATION:Source Farmhouse Brewery\, 300 NJ-34\, Colts Neck\, 07722\, United States
ATTACH;FMTTYPE=image/png:https://pantanooutdoorsupply.com/wp-content/uploads/2025/05/ClassWebsitePicTemplate_EVENTS-3.png
END:VEVENT
END:VCALENDAR