BEGIN:VCALENDAR
VERSION:2.0
PRODID:-//Pantano Outdoor Supply - ECPv6.15.18//NONSGML v1.0//EN
CALSCALE:GREGORIAN
METHOD:PUBLISH
X-ORIGINAL-URL:https://pantanooutdoorsupply.com
X-WR-CALDESC:Events for Pantano Outdoor Supply
REFRESH-INTERVAL;VALUE=DURATION:PT1H
X-Robots-Tag:noindex
X-PUBLISHED-TTL:PT1H
BEGIN:VTIMEZONE
TZID:America/New_York
BEGIN:DAYLIGHT
TZOFFSETFROM:-0500
TZOFFSETTO:-0400
TZNAME:EDT
DTSTART:20240310T070000
END:DAYLIGHT
BEGIN:STANDARD
TZOFFSETFROM:-0400
TZOFFSETTO:-0500
TZNAME:EST
DTSTART:20241103T060000
END:STANDARD
BEGIN:DAYLIGHT
TZOFFSETFROM:-0500
TZOFFSETTO:-0400
TZNAME:EDT
DTSTART:20250309T070000
END:DAYLIGHT
BEGIN:STANDARD
TZOFFSETFROM:-0400
TZOFFSETTO:-0500
TZNAME:EST
DTSTART:20251102T060000
END:STANDARD
BEGIN:DAYLIGHT
TZOFFSETFROM:-0500
TZOFFSETTO:-0400
TZNAME:EDT
DTSTART:20260308T070000
END:DAYLIGHT
BEGIN:STANDARD
TZOFFSETFROM:-0400
TZOFFSETTO:-0500
TZNAME:EST
DTSTART:20261101T060000
END:STANDARD
END:VTIMEZONE
BEGIN:VEVENT
DTSTART;TZID=America/New_York:20251005T110000
DTEND;TZID=America/New_York:20251005T150000
DTSTAMP:20260421T072613
CREATED:20250814T142535Z
LAST-MODIFIED:20250814T142535Z
UID:10000128-1759662000-1759676400@pantanooutdoorsupply.com
SUMMARY:Fall Schedule - Face painting
DESCRIPTION:[vc_row type=”in_container” full_screen_row_position=”middle” column_margin=”default” equal_height=”yes” content_placement=”top” column_direction=”default” column_direction_tablet=”default” column_direction_phone=”default” scene_position=”center” top_padding=”3%” constrain_group_1=”yes” bottom_padding=”3%” constrain_group_2=”yes” text_color=”dark” text_align=”left” row_border_radius=”none” row_border_radius_applies=”bg” overflow=”visible” overlay_strength=”0.3″ gradient_direction=”left_to_right” shape_divider_position=”bottom” bg_image_animation=”none” gradient_type=”default” shape_type=””][vc_column column_padding=”no-extra-padding” column_padding_tablet=”inherit” column_padding_phone=”inherit” column_padding_position=”all” column_element_direction_desktop=”default” column_element_spacing=”default” desktop_text_alignment=”default” tablet_text_alignment=”default” phone_text_alignment=”default” sticky_content=”true” sticky_content_functionality=”js” background_color_opacity=”1″ background_hover_color_opacity=”1″ column_backdrop_filter=”none” column_shadow=”none” column_border_radius=”none” column_link_target=”_self” column_position=”default” gradient_direction=”left_to_right” overlay_strength=”0.3″ width=”1/2″ tablet_width_inherit=”default” animation_type=”default” bg_image_animation=”none” border_type=”simple” column_border_width=”none” column_border_style=”solid” column_padding_type=”default” gradient_type=”default”][image_with_animation image_url=”7975″ image_size=”full” animation_type=”entrance” animation=”Fade In From Left” animation_easing=”default” animation_movement_type=”transform_y” hover_animation=”none” alignment=”center” border_radius=”10px” box_shadow=”none” image_loading=”default” max_width=”100%” max_width_mobile=”default”][/vc_column][vc_column column_padding=”no-extra-padding” column_padding_tablet=”inherit” column_padding_phone=”inherit” column_padding_position=”all” column_element_direction_desktop=”default” column_element_spacing=”default” desktop_text_alignment=”default” tablet_text_alignment=”default” phone_text_alignment=”default” background_color_opacity=”1″ background_hover_color_opacity=”1″ column_backdrop_filter=”none” column_shadow=”none” column_border_radius=”none” column_link_target=”_self” column_position=”default” gradient_direction=”left_to_right” overlay_strength=”0.3″ width=”1/2″ tablet_width_inherit=”default” animation_type=”default” bg_image_animation=”none” border_type=”simple” column_border_width=”none” column_border_style=”solid”][vc_column_text el_class=”pantano-event-type-tag”]\nFall Schedule – Face Painting \nALL AGES EVENT    Sunday\, October 5th @ 11:00 am – 3:00 pm \n[/vc_column_text][vc_column_text el_class=”pantano-event-description”]Pantano Home & Garden is celebrating the Fall Harvest Season with our 2nd Annual Harvest Village\, which can be enjoyed EVERYDAY 9/27 through the entirety of October. Entry to our activities is free this year while face painting will be ticketed and available for purchase in-store! $10 per ticket. \n10/5 Special Activity: Face Painting Designs by Anita\nFREE ACTIVITIES:\n\nA Pumpkin Patch\nHay Bale Maze\nCorn Maze\nFall Obstacle Course (NEW!)\nHay Bale Pyramid\nCorn Pit with Diggers\nPumpkin Bowling\nDress the Scarecrow\nRope Bubbles\nHarvest Photo Ops\nPrizes & More!\n\n[/vc_column_text][/vc_column][/vc_row]
URL:https://pantanooutdoorsupply.com/event/fall-schedule-face-painting-2/
LOCATION:Pantano Home & Garden\, 161 NJ-34\, Holmdel\, NJ\, 07733\, United States
ATTACH;FMTTYPE=image/webp:https://pantanooutdoorsupply.com/wp-content/uploads/2024/09/pantano-hg-event-image-facepainting.webp
END:VEVENT
END:VCALENDAR